BEGIN:VCALENDAR
VERSION:2.0
PRODID:-//Pasic - ECPv6.15.20//NONSGML v1.0//EN
CALSCALE:GREGORIAN
METHOD:PUBLISH
X-WR-CALNAME:Pasic
X-ORIGINAL-URL:https://staging.pasic.org.uk
X-WR-CALDESC:Events for Pasic
REFRESH-INTERVAL;VALUE=DURATION:PT1H
X-Robots-Tag:noindex
X-PUBLISHED-TTL:PT1H
BEGIN:VTIMEZONE
TZID:UTC
BEGIN:STANDARD
TZOFFSETFROM:+0000
TZOFFSETTO:+0000
TZNAME:UTC
DTSTART:20250101T000000
END:STANDARD
END:VTIMEZONE
BEGIN:VEVENT
DTSTART;VALUE=DATE:20260308
DTEND;VALUE=DATE:20260309
DTSTAMP:20260419T194643
CREATED:20260119T125417Z
LAST-MODIFIED:20260204T164449Z
UID:5887-1772928000-1773014399@staging.pasic.org.uk
SUMMARY:Nottingham 10k
DESCRIPTION:After starting in Old Market Square; the 10K route will then head north of the city centre\, travelling along Mansfield Road before reaching Nottingham Girls High School. \nOnce there\, the route will take participants along Forest Road East and onto Church Rock Cemetery before travelling south back towards Nottingham City Centre. Runners will then reach Motorpoint Nottingham Arena before looping around Nottingham’s Park Estate. Participants will then reach the historic finish line inside Nottingham Castle! \nMake every step count by running for Pasic!
URL:https://staging.pasic.org.uk/events/nottingham-10k/
LOCATION:Nottingham City Centre\, Nottingham\, United Kingdom
CATEGORIES:Running
ATTACH;FMTTYPE=image/jpeg:https://staging.pasic.org.uk/wp-content/uploads/2025/10/image-20250929-103412-81b9502b-e1770223478146.jpeg
END:VEVENT
END:VCALENDAR