BEGIN:VCALENDAR
VERSION:2.0
PRODID:-//Pasic - ECPv6.15.20//NONSGML v1.0//EN
CALSCALE:GREGORIAN
METHOD:PUBLISH
X-WR-CALNAME:Pasic
X-ORIGINAL-URL:https://staging.pasic.org.uk
X-WR-CALDESC:Events for Pasic
REFRESH-INTERVAL;VALUE=DURATION:PT1H
X-Robots-Tag:noindex
X-PUBLISHED-TTL:PT1H
BEGIN:VTIMEZONE
TZID:UTC
BEGIN:STANDARD
TZOFFSETFROM:+0000
TZOFFSETTO:+0000
TZNAME:UTC
DTSTART:20250101T000000
END:STANDARD
END:VTIMEZONE
BEGIN:VEVENT
DTSTART;VALUE=DATE:20260222
DTEND;VALUE=DATE:20260223
DTSTAMP:20260420T005423
CREATED:20260119T123819Z
LAST-MODIFIED:20260119T161746Z
UID:5878-1771718400-1771804799@staging.pasic.org.uk
SUMMARY:Leicestershire Half Marathon
DESCRIPTION:This fantastic event takes place in the picturesque town of Loughborough\, Leicestershire\, and features an undulating\, road-closed half marathon course that showcases the stunning Leicestershire countryside. Runners will set off at 9:00 am from the iconic Charnwood College\, embarking on a single lap route that winds through Shepshed\, Belton\, and Hathern before making a triumphant return to Loughborough for the finish line. \nNot only is this a great opportunity to challenge yourself and enjoy a beautiful running experience\, but by running for Pasic you’re making every step count.
URL:https://staging.pasic.org.uk/events/leicestershire-half-marathon-2/
LOCATION:Charnwood College\, Thorpe Hill\, Loughborough\, LE11 4SQ\, United Kingdom
CATEGORIES:Running
ATTACH;FMTTYPE=image/jpeg:https://staging.pasic.org.uk/wp-content/uploads/2025/10/The-Pitts-Family-4.jpg
END:VEVENT
END:VCALENDAR