BEGIN:VCALENDAR
VERSION:2.0
PRODID:-//Pasic - ECPv6.15.20//NONSGML v1.0//EN
CALSCALE:GREGORIAN
METHOD:PUBLISH
X-ORIGINAL-URL:https://staging.pasic.org.uk
X-WR-CALDESC:Events for Pasic
REFRESH-INTERVAL;VALUE=DURATION:PT1H
X-Robots-Tag:noindex
X-PUBLISHED-TTL:PT1H
BEGIN:VTIMEZONE
TZID:UTC
BEGIN:STANDARD
TZOFFSETFROM:+0000
TZOFFSETTO:+0000
TZNAME:UTC
DTSTART:20250101T000000
END:STANDARD
END:VTIMEZONE
BEGIN:VEVENT
DTSTART;VALUE=DATE:20260329
DTEND;VALUE=DATE:20260330
DTSTAMP:20260420T061616
CREATED:20260119T150110Z
LAST-MODIFIED:20260119T150110Z
UID:5893-1774742400-1774828799@staging.pasic.org.uk
SUMMARY:Sheffield Half Marathon
DESCRIPTION:With a city centre start and finish\, a huge crowd of enthusiastic supporters will cheer participants out and back. The event boasts a stunningly scenic route with majestic views of the Peak District on the climb to Ringinglow. \nTake on the Sheffield Half Marathon and make every step count with Pasic.
URL:https://staging.pasic.org.uk/events/sheffield-half-marathon/
LOCATION:Arundel Gate\, Arundel Gate\, Sheffield\, S1 2PP\, United Kingdom
CATEGORIES:Running
ATTACH;FMTTYPE=image/jpeg:https://staging.pasic.org.uk/wp-content/uploads/2025/10/George-scaled.jpg
END:VEVENT
BEGIN:VEVENT
DTSTART;VALUE=DATE:20260412
DTEND;VALUE=DATE:20260413
DTSTAMP:20260420T061616
CREATED:20260119T151345Z
LAST-MODIFIED:20260119T151345Z
UID:8019-1775952000-1776038399@staging.pasic.org.uk
SUMMARY:London Landmarks Half Marathon (SOLD OUT)
DESCRIPTION:The event is not your average half marathon! From cultural landmarks and heritage to the city’s quirky and hidden secrets\, runners get to explore the capital on a route like no other! \nPast events have started on Pall Mall\, finished by Downing Street and had fabulous views of London’s most iconic landmarks including Big Ben\, St Paul’s Cathedral\, Nelson’s Column\, the Gherkin\, the Shard\, the Tower of London and the London Eye. \nWe’re calling on runners of all abilities to join #TeamPASIC. Be a fundraising hero\, lace up your trainers\, and take on the London Landmarks Half Marathon for children with cancer. \nWe’ll be on hand to support you every step of the way\, with a fundraising pack\, running vest and shouts of encouragement! \nThis event will sell out and we only have a very limited number of places available. Book now to avoid missing out!
URL:https://staging.pasic.org.uk/events/london-landmarks-half-2026/
LOCATION:London\, London\, United Kingdom
CATEGORIES:Running
ATTACH;FMTTYPE=image/jpeg:https://staging.pasic.org.uk/wp-content/uploads/2024/09/VirginWestminster-032-scaled.jpg
END:VEVENT
BEGIN:VEVENT
DTSTART;VALUE=DATE:20260412
DTEND;VALUE=DATE:20260413
DTSTAMP:20260420T061616
CREATED:20260119T152100Z
LAST-MODIFIED:20260204T164655Z
UID:8022-1775952000-1776038399@staging.pasic.org.uk
SUMMARY:Brighton Marathon
DESCRIPTION:Renowned for its buzzing atmosphere and roaring crowd support\, the course winds through the city streets\, finishing up on the spectacular Brighton seafront. Run the UK’s third largest marathon with Pasic.
URL:https://staging.pasic.org.uk/events/brighton-marathon/
LOCATION:Preston Park\, Preston Park\, Brighton\, BN1 6SD\, United Kingdom
CATEGORIES:Running
ATTACH;FMTTYPE=image/jpeg:https://staging.pasic.org.uk/wp-content/uploads/2025/10/Ramathon-start-line-e1770223608566.jpg
END:VEVENT
BEGIN:VEVENT
DTSTART;VALUE=DATE:20260419
DTEND;VALUE=DATE:20260420
DTSTAMP:20260420T061616
CREATED:20260119T152313Z
LAST-MODIFIED:20260119T161509Z
UID:8025-1776556800-1776643199@staging.pasic.org.uk
SUMMARY:Manchester Marathon 2026
DESCRIPTION:Many regular runners find this the ideal event to get a personal best time\, whilst everybody finds the incredible Mancunian support throughout the course unforgettable. From some superb elite runners\, to those who thought completing a marathon would never be possible. \nJoin #TeamPASIC and raise money for local families facing childhood cancer. We’ll be on hand to support you every step of the way\, with a fundraising pack\, running vest and shouts of encouragement! \nThis event will sell out and we only have a very limited number of places available. Book now to avoid missing out.
URL:https://staging.pasic.org.uk/events/manchester-marathon-2026/
LOCATION:Manchester\, Manchester\, United Kingdom
CATEGORIES:Running
ATTACH;FMTTYPE=image/jpeg:https://staging.pasic.org.uk/wp-content/uploads/2024/10/Manchester-marathon-scaled.jpeg
END:VEVENT
BEGIN:VEVENT
DTSTART;VALUE=DATE:20260426
DTEND;VALUE=DATE:20260427
DTSTAMP:20260420T061616
CREATED:20260119T152451Z
LAST-MODIFIED:20260119T161430Z
UID:8028-1777161600-1777247999@staging.pasic.org.uk
SUMMARY:TCS London Marathon 2026
DESCRIPTION:All our places for London Marathon 2026 are now allocated. We’ll be opening applications for London Marathon 2027 next year.
URL:https://staging.pasic.org.uk/events/london-marathon-2026/
LOCATION:London\, London\, United Kingdom
CATEGORIES:Running
ATTACH;FMTTYPE=image/jpeg:https://staging.pasic.org.uk/wp-content/uploads/2025/05/london-marathon.jpeg
END:VEVENT
BEGIN:VEVENT
DTSTART;VALUE=DATE:20260510
DTEND;VALUE=DATE:20260511
DTSTAMP:20260420T061616
CREATED:20260119T153219Z
LAST-MODIFIED:20260204T102013Z
UID:8030-1778371200-1778457599@staging.pasic.org.uk
SUMMARY:Skydive for Pasic 2026
DESCRIPTION:Sign up now \nExperience the ultimate adrenaline rush while making a life-changing difference! \nJoin Team Pasic for an unforgettable tandem skydive and help support children and young people with cancer across the East Midlands. \nYou’ll jump from a breathtaking 14\,000 feet\, freefalling at 120mph before gliding gently back to earth under parachute. Safely harnessed to an expert instructor\, you’ll experience pure exhilaration as you take in spectacular views and complete a once-in-a-lifetime challenge. \nThis is a group event\, so you’ll be sharing the skies with other brave Pasic fundraisers\, cheered on by our team and your supporters from the ground. Family and friends are warmly invited to watch and celebrate your incredible achievement from the spectator picnic area. \nEvery participant will receive a Pasic fundraising pack\, including a free T-shirt and full support to help you reach your fundraising goals. \n \n💛 Fundraising Options\nYou can choose one of two ways to take part: \n1. Minimum Sponsorship Option \n\nPay a £30 non-refundable registration fee\nCommit to raising a minimum of £400 in sponsorship\nYour fundraising covers the cost of your skydive and vital support for PASIC families.\n\n2. Self-Fund Option \n\nPay the full £240 cost of the skydive (after your £30 registration fee)\nEvery penny you raise in sponsorship goes directly to PASIC\nNo minimum fundraising target — just do your best!\nPayment for the remaining balance (£210) is due by mid-February\, and flexible payment plans are available.\n\n✅ Who Can Take Part\n\nMinimum age: 16 years\nMaximum weight: 15 stone / 95kg (for safety reasons)\n\nTake the leap\, feel the rush\, and make an incredible difference for children and families facing childhood cancer. \nSign up now
URL:https://staging.pasic.org.uk/events/skydive-for-pasic-2026/
LOCATION:Langar Airfield\, Langar Airfield\, NG13 9HY\, United Kingdom
CATEGORIES:Challenge
ATTACH;FMTTYPE=image/jpeg:https://staging.pasic.org.uk/wp-content/uploads/2025/10/5_Freefall_018691_31_v_c-scaled.jpg
END:VEVENT
BEGIN:VEVENT
DTSTART;VALUE=DATE:20260628
DTEND;VALUE=DATE:20260629
DTSTAMP:20260420T061616
CREATED:20260119T153822Z
LAST-MODIFIED:20260204T164814Z
UID:8036-1782604800-1782691199@staging.pasic.org.uk
SUMMARY:Ramathon – Derby Half Marathon
DESCRIPTION:The exciting new route starts and finishes in Iron Gate close to Derby Cathedral and takes in Pride Park Stadium\, Alvaston Park and the stunning scenery of Elvaston Castle Country Park. \nMake a difference and run with Pasic.
URL:https://staging.pasic.org.uk/events/ramathon-derby-half-marathon/
LOCATION:Derby City Centre\, Derby\, United Kingdom
CATEGORIES:Running
ATTACH;FMTTYPE=image/jpeg:https://staging.pasic.org.uk/wp-content/uploads/2025/10/Agris-and-Lewis-scaled-e1770223688244.jpg
END:VEVENT
BEGIN:VEVENT
DTSTART;VALUE=DATE:20260830
DTEND;VALUE=DATE:20260831
DTSTAMP:20260420T061616
CREATED:20260119T154238Z
LAST-MODIFIED:20260119T154238Z
UID:8039-1788048000-1788134399@staging.pasic.org.uk
SUMMARY:Nottingham Running Festival 10k
DESCRIPTION:The Nottingham Running Festival will take place at the iconic Nottingham Racecourse\, one of the oldest racing facilities in the country and host of major events in both horse and greyhound racing. The course also takes you along the wide trail paths of Colwick Country Park and around the park’s stunning lakes! \nJoin #TeamPasic and make every step count for local families facing childhood cancer.
URL:https://staging.pasic.org.uk/events/nottingham-running-festival-10k/
LOCATION:Nottingham Racecourse\, Nottingham Racecourse\, Colwick Park\, Nottingham\, NG2 4BE\, United Kingdom
CATEGORIES:Running
ATTACH;FMTTYPE=image/jpeg:https://staging.pasic.org.uk/wp-content/uploads/2025/10/Justina-Cooke-Triathlon-3-e1760361221983.jpg
END:VEVENT
BEGIN:VEVENT
DTSTART;VALUE=DATE:20260830
DTEND;VALUE=DATE:20260831
DTSTAMP:20260420T061616
CREATED:20260119T154612Z
LAST-MODIFIED:20260210T134048Z
UID:8042-1788048000-1788134399@staging.pasic.org.uk
SUMMARY:Nottingham Running Festival Half Marathon
DESCRIPTION:The Nottingham Running Festival will take place at the iconic Nottingham Racecourse\, one of the oldest racing facilities in the country and host of major events in both horse and greyhound racing. The course also takes you along the wide trail paths of Colwick Country Park and around the park’s stunning lakes! \nJoin #TeamPasic and make every step count for local families facing childhood cancer.
URL:https://staging.pasic.org.uk/events/nottingham-running-festival-half-marathon/
LOCATION:Nottingham Racecourse\, Nottingham Racecourse\, Colwick Park\, Nottingham\, NG2 4BE\, United Kingdom
CATEGORIES:Running
ATTACH;FMTTYPE=image/jpeg:https://staging.pasic.org.uk/wp-content/uploads/2025/10/IMG_5015-e1770223736311.jpeg
END:VEVENT
END:VCALENDAR